BEGIN:VCALENDAR
VERSION:2.0
PRODID:-//Squarespace Inc/Squarespace 6//v6//EN
BEGIN:VEVENT
UID:5d4a7ef4c2f30d0001f946b5@squarespace.com
DTSTAMP:20190807T073432Z
DTSTART:20190428T020000Z
DTEND:20190428T050000Z
SUMMARY:Kings Day
END:VEVENT
END:VCALENDAR
