BEGIN:VCALENDAR
VERSION:2.0
PRODID:-//Squarespace Inc/Squarespace 6//v6//EN
BEGIN:VEVENT
UID:5d4a7e525df26e00017a1fbb@squarespace.com
DTSTAMP:20190807T073150Z
DTSTART:20191208T010000Z
DTEND:20191208T040000Z
SUMMARY:Sinterklaas
END:VEVENT
END:VCALENDAR
