BEGIN:VCALENDAR
VERSION:2.0
PRODID:-//Squarespace Inc/Squarespace 6//v6//EN
BEGIN:VEVENT
UID:5d4a7dece32d740001027336@squarespace.com
DTSTAMP:20190807T073036Z
DTSTART:20190921T220000Z
DTEND:20190922T040000Z
SUMMARY:Tulip Sunday at Wellington Botanical Gardens
END:VEVENT
END:VCALENDAR
