BEGIN:VCALENDAR
VERSION:2.0
PRODID:-//Squarespace Inc/Squarespace 6//v6//EN
BEGIN:VEVENT
UID:5ddcaa6f516b877c212ca183@squarespace.com
DTSTAMP:20191202T195451Z
DTSTART:20191214T220000Z
DTEND:20191215T040000Z
SUMMARY:Christmas Lunch
END:VEVENT
END:VCALENDAR
