BEGIN:VCALENDAR
VERSION:2.0
PRODID:-//Squarespace Inc/Squarespace 6//v6//EN
BEGIN:VEVENT
UID:5d8ed5f19135ee1aa9e8eefc@squarespace.com
DTSTAMP:20191126T043127Z
DTSTART:20191203T210000Z
DTEND:20191204T000000Z
SUMMARY:Coffee morning/Potluck
END:VEVENT
END:VCALENDAR
