BEGIN:VCALENDAR
VERSION:2.0
PRODID:-//Squarespace Inc/Squarespace 6//v6//EN
BEGIN:VEVENT
UID:5d8ed5c09135ee1aa9e8e99d@squarespace.com
DTSTAMP:20190928T033855Z
DTSTART:20191105T210000Z
DTEND:20191106T000000Z
SUMMARY:Coffee morning
END:VEVENT
END:VCALENDAR
