BEGIN:VCALENDAR
VERSION:2.0
PRODID:-//Squarespace Inc/Squarespace 6//v6//EN
BEGIN:VEVENT
UID:5d8d17654eef82504bd4bdb0@squarespace.com
DTSTAMP:20190926T195425Z
DTSTART:20191015T210000Z
DTEND:20191016T000000Z
SUMMARY:Coffee morning
END:VEVENT
END:VCALENDAR
