BEGIN:VCALENDAR
VERSION:2.0
PRODID:-//Squarespace Inc/Squarespace 6//v6//EN
BEGIN:VEVENT
UID:5d8ed5d8b25f8325457cbfdd@squarespace.com
DTSTAMP:20190928T033915Z
DTSTART:20191119T210000Z
DTEND:20191120T000000Z
SUMMARY:Coffee morning
END:VEVENT
END:VCALENDAR
