BEGIN:VCALENDAR
VERSION:2.0
PRODID:-//Squarespace Inc/Squarespace 6//v6//EN
BEGIN:VEVENT
UID:5d8d174d756b064f77c0e778@squarespace.com
DTSTAMP:20190926T195406Z
DTSTART:20191001T210000Z
DTEND:20191002T000000Z
SUMMARY:Coffee morning
END:VEVENT
END:VCALENDAR
