BEGIN:VCALENDAR
VERSION:2.0
PRODID:-//Squarespace Inc/Squarespace 6//v6//EN
BEGIN:VEVENT
UID:5d4a60b5a0e2c400014bdf51@squarespace.com
DTSTAMP:20190807T052523Z
DTSTART:20190917T220000Z
DTEND:20190918T010000Z
SUMMARY: Coffee morning
END:VEVENT
END:VCALENDAR
