BEGIN:VCALENDAR
VERSION:2.0
PRODID:-//Squarespace Inc/Squarespace 6//v6//EN
BEGIN:VEVENT
UID:5d4a60a3fe4cc000019fb699@squarespace.com
DTSTAMP:20190807T052502Z
DTSTART:20190903T220000Z
DTEND:20190904T010000Z
SUMMARY:Coffee morning
END:VEVENT
END:VCALENDAR
