BEGIN:VCALENDAR
VERSION:2.0
PRODID:-//Squarespace Inc/Squarespace 6//v6//EN
BEGIN:VEVENT
UID:5d4a5ffb127c96000128ddc3@squarespace.com
DTSTAMP:20190807T052215Z
DTSTART:20190820T220000Z
DTEND:20190821T010000Z
SUMMARY:Coffee morning
END:VEVENT
END:VCALENDAR
