BEGIN:VCALENDAR
VERSION:2.0
PRODID:-//Squarespace Inc/Squarespace 6//v6//EN
BEGIN:VEVENT
UID:5d4a5f9dc2f30d0001f8493c@squarespace.com
DTSTAMP:20190807T052128Z
DTSTART:20190806T220000Z
DTEND:20190807T010000Z
SUMMARY:Coffee morning
END:VEVENT
END:VCALENDAR
