BEGIN:VCALENDAR
VERSION:2.0
PRODID:-//Squarespace Inc/Squarespace 6//v6//EN
BEGIN:VEVENT
UID:5d4a6326eab07100015b2ea2@squarespace.com
DTSTAMP:20190807T053547Z
DTSTART:20190806T073000Z
DTEND:20190806T090000Z
SUMMARY:Committee meeting
END:VEVENT
END:VCALENDAR
