BEGIN:VCALENDAR
VERSION:2.0
PRODID:-//Squarespace Inc/Squarespace 6//v6//EN
BEGIN:VEVENT
UID:5d4a610913c5630001ea2d5f@squarespace.com
DTSTAMP:20190807T052657Z
DTSTART:20190903T073000Z
DTEND:20190903T090000Z
SUMMARY:Committee meeting
END:VEVENT
END:VCALENDAR
