BEGIN:VCALENDAR
VERSION:2.0
PRODID:-//Squarespace Inc/Squarespace 6//v6//EN
BEGIN:VEVENT
UID:5d3af106b653600001b71897@squarespace.com
DTSTAMP:20190726T225343Z
DTSTART:20190528T020000Z
DTEND:20190528T050000Z
SUMMARY:Kingsday
END:VEVENT
END:VCALENDAR
