BEGIN:VCALENDAR
VERSION:2.0
PRODID:-//Squarespace Inc/Squarespace 6//v6//EN
BEGIN:VEVENT
UID:5d4a6339cd18d800012b0aef@squarespace.com
DTSTAMP:20190807T053603Z
DTSTART:20190805T220000Z
DTEND:20190806T020000Z
SUMMARY:Klaverjassen
END:VEVENT
END:VCALENDAR
