BEGIN:VCALENDAR
VERSION:2.0
PRODID:-//Squarespace Inc/Squarespace 6//v6//EN
BEGIN:VEVENT
UID:5d4a618a127c96000128ec2f@squarespace.com
DTSTAMP:20190807T053242Z
DTSTART:20190819T220000Z
DTEND:20190820T020000Z
SUMMARY:Klaverjassen
END:VEVENT
END:VCALENDAR
