BEGIN:VCALENDAR
VERSION:2.0
PRODID:-//Squarespace Inc/Squarespace 6//v6//EN
BEGIN:VEVENT
UID:5d8d17b394094165a9f2f0be@squarespace.com
DTSTAMP:20190926T195542Z
DTSTART:20191028T210000Z
DTEND:20191029T010000Z
SUMMARY:Klaverjassen
END:VEVENT
END:VCALENDAR
