BEGIN:VCALENDAR
VERSION:2.0
PRODID:-//Squarespace Inc/Squarespace 6//v6//EN
BEGIN:VEVENT
UID:5d8d17a0483b7032dfbeaadf@squarespace.com
DTSTAMP:20190926T195524Z
DTSTART:20191021T210000Z
DTEND:20191022T010000Z
SUMMARY:Klaverjassen
END:VEVENT
END:VCALENDAR
