BEGIN:VCALENDAR
VERSION:2.0
PRODID:-//Squarespace Inc/Squarespace 6//v6//EN
BEGIN:VEVENT
UID:5d8d178f94094165a9f2ec11@squarespace.com
DTSTAMP:20190926T195507Z
DTSTART:20191014T210000Z
DTEND:20191015T010000Z
SUMMARY:Klaverjassen
END:VEVENT
END:VCALENDAR
