BEGIN:VCALENDAR
VERSION:2.0
PRODID:-//Squarespace Inc/Squarespace 6//v6//EN
BEGIN:VEVENT
UID:5d8ed4d99135ee1aa9e8dc70@squarespace.com
DTSTAMP:20190928T033504Z
DTSTART:20191111T210000Z
DTEND:20191112T010000Z
SUMMARY:Klaverjassen
END:VEVENT
END:VCALENDAR
