BEGIN:VCALENDAR
VERSION:2.0
PRODID:-//Squarespace Inc/Squarespace 6//v6//EN
BEGIN:VEVENT
UID:5d8ed4f2f96fbc31e99ff47b@squarespace.com
DTSTAMP:20190928T033527Z
DTSTART:20191118T210000Z
DTEND:20191119T010000Z
SUMMARY:Klaverjassen
END:VEVENT
END:VCALENDAR
