BEGIN:VCALENDAR
VERSION:2.0
PRODID:-//Squarespace Inc/Squarespace 6//v6//EN
BEGIN:VEVENT
UID:5d8ed509f96fbc31e99ff5ed@squarespace.com
DTSTAMP:20190928T033551Z
DTSTART:20191125T210000Z
DTEND:20191126T010000Z
SUMMARY:Klaverjassen
END:VEVENT
END:VCALENDAR
