BEGIN:VCALENDAR
VERSION:2.0
PRODID:-//Squarespace Inc/Squarespace 6//v6//EN
BEGIN:VEVENT
UID:5d8d177f39e7f9182a1a8b56@squarespace.com
DTSTAMP:20190926T195448Z
DTSTART:20191007T210000Z
DTEND:20191008T010000Z
SUMMARY:Klaverjassen
END:VEVENT
END:VCALENDAR
