BEGIN:VCALENDAR
VERSION:2.0
PRODID:-//Squarespace Inc/Squarespace 6//v6//EN
BEGIN:VEVENT
UID:5d8ed4be329ba418e85a4d5b@squarespace.com
DTSTAMP:20190928T033439Z
DTSTART:20191104T210000Z
DTEND:20191105T010000Z
SUMMARY:Klaverjassen
END:VEVENT
END:VCALENDAR
