BEGIN:VCALENDAR
VERSION:2.0
PRODID:-//Squarespace Inc/Squarespace 6//v6//EN
BEGIN:VEVENT
UID:5d8ed54b9135ee1aa9e8e394@squarespace.com
DTSTAMP:20190928T033655Z
DTSTART:20191209T210000Z
DTEND:20191210T010000Z
SUMMARY:Klaverjassen
END:VEVENT
END:VCALENDAR
