BEGIN:VCALENDAR
VERSION:2.0
PRODID:-//Squarespace Inc/Squarespace 6//v6//EN
BEGIN:VEVENT
UID:5d8ed51ff96fbc31e99ff770@squarespace.com
DTSTAMP:20190928T033633Z
DTSTART:20191202T210000Z
DTEND:20191203T010000Z
SUMMARY:Klaverjassen
END:VEVENT
END:VCALENDAR
