BEGIN:VCALENDAR
VERSION:2.0
PRODID:-//Squarespace Inc/Squarespace 6//v6//EN
BEGIN:VEVENT
UID:5d8d1724dced5b47ad85f796@squarespace.com
DTSTAMP:20190926T195329Z
DTSTART:20190930T210000Z
DTEND:20191001T010000Z
SUMMARY:Klaverjassen
END:VEVENT
END:VCALENDAR
