BEGIN:VCALENDAR
VERSION:2.0
PRODID:-//Squarespace Inc/Squarespace 6//v6//EN
BEGIN:VEVENT
UID:5d4a624eeab07100015b25b5@squarespace.com
DTSTAMP:20190807T053327Z
DTSTART:20190923T220000Z
DTEND:20190924T020000Z
SUMMARY:Klaverjassen
END:VEVENT
END:VCALENDAR
