BEGIN:VCALENDAR
VERSION:2.0
PRODID:-//Squarespace Inc/Squarespace 6//v6//EN
BEGIN:VEVENT
UID:5d4a6232792dc90001e990e9@squarespace.com
DTSTAMP:20190807T053152Z
DTSTART:20190916T220000Z
DTEND:20190917T020000Z
SUMMARY:Klaverjassen
END:VEVENT
END:VCALENDAR
