BEGIN:VCALENDAR
VERSION:2.0
PRODID:-//Squarespace Inc/Squarespace 6//v6//EN
BEGIN:VEVENT
UID:5d4a61cdba997c00019b0b49@squarespace.com
DTSTAMP:20190807T053450Z
DTSTART:20190909T220000Z
DTEND:20190910T020000Z
SUMMARY:Klaverjassen
END:VEVENT
END:VCALENDAR
