BEGIN:VCALENDAR
VERSION:2.0
PRODID:-//Squarespace Inc/Squarespace 6//v6//EN
BEGIN:VEVENT
UID:5d4a61b6fe4cc000019fc0ce@squarespace.com
DTSTAMP:20190807T053459Z
DTSTART:20190902T220000Z
DTEND:20190903T020000Z
SUMMARY:Klaverjassen
END:VEVENT
END:VCALENDAR
