BEGIN:VCALENDAR
VERSION:2.0
PRODID:-//Squarespace Inc/Squarespace 6//v6//EN
BEGIN:VEVENT
UID:5d4a619ce32d74000101908d@squarespace.com
DTSTAMP:20190807T053250Z
DTSTART:20190826T220000Z
DTEND:20190827T020000Z
SUMMARY:Klaverjassen
END:VEVENT
END:VCALENDAR
