BEGIN:VCALENDAR
VERSION:2.0
PRODID:-//Squarespace Inc/Squarespace 6//v6//EN
BEGIN:VEVENT
UID:5d4a614d7b3fb600014a8e16@squarespace.com
DTSTAMP:20190807T053236Z
DTSTART:20190812T220000Z
DTEND:20190813T020000Z
SUMMARY:Klaverjassen
END:VEVENT
END:VCALENDAR
