BEGIN:VCALENDAR
VERSION:2.0
PRODID:-//Squarespace Inc/Squarespace 6//v6//EN
BEGIN:VEVENT
UID:5d3af1c1d49eee0001ea597f@squarespace.com
DTSTAMP:20190806T235950Z
DTSTART:20191006T033000Z
DTEND:20191006T080000Z
SUMMARY:Leidens Ontzet
END:VEVENT
END:VCALENDAR
