BEGIN:VCALENDAR
VERSION:2.0
PRODID:-//Squarespace Inc/Squarespace 6//v6//EN
BEGIN:VEVENT
UID:5d3af1f138db660001483e57@squarespace.com
DTSTAMP:20191027T074848Z
DTSTART:20191201T010000Z
DTEND:20191201T040000Z
SUMMARY:Sinterklaas
END:VEVENT
END:VCALENDAR
