BEGIN:VCALENDAR
VERSION:2.0
PRODID:-//Squarespace Inc/Squarespace 6//v6//EN
BEGIN:VEVENT
UID:5d8d17f34bd79b0de80234fe@squarespace.com
DTSTAMP:20190926T195648Z
DTSTART:20191027T010000Z
DTEND:20191027T040000Z
SUMMARY:Social Sunday
END:VEVENT
END:VCALENDAR
