BEGIN:VCALENDAR
VERSION:2.0
PRODID:-//Squarespace Inc/Squarespace 6//v6//EN
BEGIN:VEVENT
UID:5d8d17dd39e7f9182a1a9598@squarespace.com
DTSTAMP:20190926T195736Z
DTSTART:20191020T010000Z
DTEND:20191020T040000Z
SUMMARY:Social Sunday
END:VEVENT
END:VCALENDAR
