BEGIN:VCALENDAR
VERSION:2.0
PRODID:-//Squarespace Inc/Squarespace 6//v6//EN
BEGIN:VEVENT
UID:5d8ed3f34e12d813b0cc5972@squarespace.com
DTSTAMP:20190928T033112Z
DTSTART:20191201T010000Z
DTEND:20191201T040000Z
SUMMARY:Social Sunday
END:VEVENT
END:VCALENDAR
