BEGIN:VCALENDAR
VERSION:2.0
PRODID:-//Squarespace Inc/Squarespace 6//v6//EN
BEGIN:VEVENT
UID:5d8ed3c985c3b643b77a2bdb@squarespace.com
DTSTAMP:20190928T033036Z
DTSTART:20191124T010000Z
DTEND:20191124T040000Z
SUMMARY:Social Sunday
END:VEVENT
END:VCALENDAR
