BEGIN:VCALENDAR
VERSION:2.0
PRODID:-//Squarespace Inc/Squarespace 6//v6//EN
BEGIN:VEVENT
UID:5d8ed3914e12d813b0cc53d2@squarespace.com
DTSTAMP:20190928T032937Z
DTSTART:20191110T010000Z
DTEND:20191110T040000Z
SUMMARY:Social Sunday
END:VEVENT
END:VCALENDAR
