BEGIN:VCALENDAR
VERSION:2.0
PRODID:-//Squarespace Inc/Squarespace 6//v6//EN
BEGIN:VEVENT
UID:5d8ed355b25f8325457c961c@squarespace.com
DTSTAMP:20190928T032914Z
DTSTART:20191103T010000Z
DTEND:20191103T040000Z
SUMMARY:Social Sunday
END:VEVENT
END:VCALENDAR
