BEGIN:VCALENDAR
VERSION:2.0
PRODID:-//Squarespace Inc/Squarespace 6//v6//EN
BEGIN:VEVENT
UID:5d8ed45e4e12d813b0cc5e67@squarespace.com
DTSTAMP:20190928T033303Z
DTSTART:20191229T010000Z
DTEND:20191229T040000Z
SUMMARY:Social Sunday
END:VEVENT
END:VCALENDAR
