BEGIN:VCALENDAR
VERSION:2.0
PRODID:-//Squarespace Inc/Squarespace 6//v6//EN
BEGIN:VEVENT
UID:5d8ed42185c3b643b77a311a@squarespace.com
DTSTAMP:20190928T033202Z
DTSTART:20191215T010000Z
DTEND:20191215T040000Z
SUMMARY:Social Sunday
END:VEVENT
END:VCALENDAR
