BEGIN:VCALENDAR
VERSION:2.0
PRODID:-//Squarespace Inc/Squarespace 6//v6//EN
BEGIN:VEVENT
UID:5d8ed4074e12d813b0cc5a30@squarespace.com
DTSTAMP:20190928T033134Z
DTSTART:20191208T010000Z
DTEND:20191208T040000Z
SUMMARY:Social Sunday
END:VEVENT
END:VCALENDAR
