BEGIN:VCALENDAR
VERSION:2.0
PRODID:-//Squarespace Inc/Squarespace 6//v6//EN
BEGIN:VEVENT
UID:5d8d17c5483b7032dfbeaf5b@squarespace.com
DTSTAMP:20190926T195606Z
DTSTART:20191013T010000Z
DTEND:20191013T040000Z
SUMMARY:Social Sunday
END:VEVENT
END:VCALENDAR
