BEGIN:VCALENDAR
VERSION:2.0
PRODID:-//Squarespace Inc/Squarespace 6//v6//EN
BEGIN:VEVENT
UID:5d4a608da40bff00012b62f3@squarespace.com
DTSTAMP:20190807T052443Z
DTSTART:20190929T010000Z
DTEND:20190929T040000Z
SUMMARY:Social Sunday
END:VEVENT
END:VCALENDAR
