BEGIN:VCALENDAR
VERSION:2.0
PRODID:-//Squarespace Inc/Squarespace 6//v6//EN
BEGIN:VEVENT
UID:5d4a6071e81d3a0001869557@squarespace.com
DTSTAMP:20190807T052413Z
DTSTART:20190915T020000Z
DTEND:20190915T050000Z
SUMMARY:Social Sunday
END:VEVENT
END:VCALENDAR
