BEGIN:VCALENDAR
VERSION:2.0
PRODID:-//Squarespace Inc/Squarespace 6//v6//EN
BEGIN:VEVENT
UID:5d4a6035a0e2c400014bd95d@squarespace.com
DTSTAMP:20190807T052312Z
DTSTART:20190825T020000Z
DTEND:20190825T050000Z
SUMMARY:Social Sunday
END:VEVENT
END:VCALENDAR
